BEGIN:VCALENDAR
VERSION:2.0
PRODID:-//ChamberMaster//Event Calendar 2.0//EN
METHOD:PUBLISH
X-PUBLISHED-TTL:P3D
REFRESH-INTERVAL:P3D
CALSCALE:GREGORIAN
BEGIN:VEVENT
DTSTART:20200706T230000Z
DTEND:20200706T230000Z
X-MICROSOFT-CDO-ALLDAYEVENT:FALSE
SUMMARY:Gaylesville Town Council Meeting
DESCRIPTION:Gaylesville Town Council meeting held at Gaylesville Town Hall each month.
X-ALT-DESC;FMTTYPE=text/html:<div>Gaylesville Town Council meeting held at Gaylesville Town Hall each month.</div>\n
LOCATION:Gaylesville Town Hall 4740 Main Street Gaylesville\, AL
UID:e.655.3581
SEQUENCE:3
DTSTAMP:20260420T082539Z
URL:https://members.cherokee-chamber.org/events/details/gaylesville-town-council-meeting-07-06-2020-3581
END:VEVENT

END:VCALENDAR
