BEGIN:VCALENDAR
VERSION:2.0
PRODID:-//ChamberMaster//Event Calendar 2.0//EN
METHOD:PUBLISH
X-PUBLISHED-TTL:P3D
REFRESH-INTERVAL:P3D
CALSCALE:GREGORIAN
BEGIN:VEVENT
DTSTART:20220521T100000Z
DTEND:20220521T200000Z
X-MICROSOFT-CDO-ALLDAYEVENT:FALSE
SUMMARY:Fishers of Men Weiss Lake
DESCRIPTION:FOM on Weiss Lake
X-ALT-DESC;FMTTYPE=text/html:FOM on Weiss Lake&nbsp\;
LOCATION:Leesburg Landing Leesburg Alabama
UID:e.655.30978
SEQUENCE:3
DTSTAMP:20260421T203845Z
URL:https://members.cherokee-chamber.org/events/details/fishers-of-men-weiss-lake-30978
END:VEVENT

END:VCALENDAR
