BEGIN:VCALENDAR
VERSION:2.0
PRODID:-//ChamberMaster//Event Calendar 2.0//EN
METHOD:PUBLISH
X-PUBLISHED-TTL:P3D
REFRESH-INTERVAL:P3D
CALSCALE:GREGORIAN
BEGIN:VEVENT
DTSTART:20320209T160000Z
DTEND:20320209T160000Z
X-MICROSOFT-CDO-ALLDAYEVENT:FALSE
SUMMARY:Cherokee County Commission Meeting
DESCRIPTION:Cherokee County Commission Meeting\n\n2nd Monday of each month\n\n10 am
X-ALT-DESC;FMTTYPE=text/html:Cherokee County Commission Meeting<br />\n2nd Monday of each month<br />\n10 am&nbsp\;
LOCATION:Administration Building Cedar Bluff Road Centre\, AL
UID:e.655.34083
SEQUENCE:3
DTSTAMP:20260422T235719Z
URL:https://members.cherokee-chamber.org/events/details/cherokee-county-commission-meeting-02-09-2032-34083
END:VEVENT

END:VCALENDAR
