BEGIN:VCALENDAR
VERSION:2.0
PRODID:-//ChamberMaster//Event Calendar 2.0//EN
METHOD:PUBLISH
X-PUBLISHED-TTL:P3D
REFRESH-INTERVAL:P3D
CALSCALE:GREGORIAN
BEGIN:VEVENT
DTSTART:20281019T223000Z
DTEND:20281019T223000Z
X-MICROSOFT-CDO-ALLDAYEVENT:FALSE
SUMMARY:Cherokee County Civitan Club
DESCRIPTION:Cherokee County Civitan Club
X-ALT-DESC;FMTTYPE=text/html:Cherokee County Civitan Club&nbsp\;
LOCATION:
UID:e.655.34523
SEQUENCE:3
DTSTAMP:20260420T130942Z
URL:https://members.cherokee-chamber.org/events/details/cherokee-county-civitan-club-10-19-2028-34523
END:VEVENT

END:VCALENDAR
