BEGIN:VCALENDAR
VERSION:2.0
PRODID:-//ChamberMaster//Event Calendar 2.0//EN
METHOD:PUBLISH
X-PUBLISHED-TTL:P3D
REFRESH-INTERVAL:P3D
CALSCALE:GREGORIAN
BEGIN:VEVENT
DTSTART:20320520T223000Z
DTEND:20320520T223000Z
X-MICROSOFT-CDO-ALLDAYEVENT:FALSE
SUMMARY:Cherokee County Civitan Club
DESCRIPTION:Cherokee County Civitan Club
X-ALT-DESC;FMTTYPE=text/html:Cherokee County Civitan Club&nbsp\;
LOCATION:
UID:e.655.34566
SEQUENCE:3
DTSTAMP:20260423T051500Z
URL:https://members.cherokee-chamber.org/events/details/cherokee-county-civitan-club-05-20-2032-34566
END:VEVENT

END:VCALENDAR
