BEGIN:VCALENDAR
VERSION:2.0
PRODID:-//ChamberMaster//Event Calendar 2.0//EN
METHOD:PUBLISH
X-PUBLISHED-TTL:P3D
REFRESH-INTERVAL:P3D
CALSCALE:GREGORIAN
BEGIN:VEVENT
DTSTART:20280620T170000Z
DTEND:20280620T180000Z
X-MICROSOFT-CDO-ALLDAYEVENT:FALSE
SUMMARY:Chamber Board Meeting
DESCRIPTION:Chamber Board Meeting
X-ALT-DESC;FMTTYPE=text/html:Chamber Board Meeting
LOCATION:Chamber Meeting Room
UID:e.655.34246
SEQUENCE:3
DTSTAMP:20260420T065644Z
URL:https://members.cherokee-chamber.org/events/details/chamber-board-meeting-06-20-2028-34246
END:VEVENT

END:VCALENDAR
