BEGIN:VCALENDAR
VERSION:2.0
PRODID:-//ChamberMaster//Event Calendar 2.0//EN
METHOD:PUBLISH
X-PUBLISHED-TTL:P3D
REFRESH-INTERVAL:P3D
CALSCALE:GREGORIAN
BEGIN:VEVENT
DTSTART:20211018T213000Z
DTEND:20211018T223000Z
X-MICROSOFT-CDO-ALLDAYEVENT:FALSE
SUMMARY:Cedar Bluff Town Council Workshop
DESCRIPTION:CEDAR BLUFF TOWN COUNCIL WORKSHOP
X-ALT-DESC;FMTTYPE=text/html:<p style="text-align: center\;"><span style="font-size:14px\;"><span style="background-color:#ffffff\;"><span style="color:#ff0000\;">CEDAR BLUFF TOWN COUNCIL WORKSHOP</span></span></span></p>\n
LOCATION:CEDAR BLUFF TOWN HALL
UID:e.655.16883
SEQUENCE:3
DTSTAMP:20260420T082330Z
URL:https://members.cherokee-chamber.org/events/details/cedar-bluff-town-council-workshop-10-18-2021-16883
END:VEVENT

END:VCALENDAR
